BEGIN:VCALENDAR
VERSION:2.0
PRODID:-//Information Systems Group - ECPv6.4.0.1//NONSGML v1.0//EN
CALSCALE:GREGORIAN
METHOD:PUBLISH
X-ORIGINAL-URL:https://isg.ics.uci.edu
X-WR-CALDESC:Events for Information Systems Group
REFRESH-INTERVAL;VALUE=DURATION:PT1H
X-Robots-Tag:noindex
X-PUBLISHED-TTL:PT1H
BEGIN:VTIMEZONE
TZID:America/Los_Angeles
BEGIN:DAYLIGHT
TZOFFSETFROM:-0800
TZOFFSETTO:-0700
TZNAME:PDT
DTSTART:20250309T100000
END:DAYLIGHT
BEGIN:STANDARD
TZOFFSETFROM:-0700
TZOFFSETTO:-0800
TZNAME:PST
DTSTART:20251102T090000
END:STANDARD
END:VTIMEZONE
BEGIN:VEVENT
DTSTART;TZID=America/Los_Angeles:20250307T130000
DTEND;TZID=America/Los_Angeles:20250307T170000
DTSTAMP:20260422T002914
CREATED:20250401T171401Z
LAST-MODIFIED:20250401T171401Z
UID:2186-1741352400-1741366800@isg.ics.uci.edu
SUMMARY:Lukas Lokowski: Knowledge Graphs and AI: Bridging Enterprise Data and Knowledge Graphs to Leverage AI Applications
DESCRIPTION:Knowledge Graphs and AI: Bridging Enterprise Data and Knowledge Graphs to Leverage AI Applications\nAbstract:\nIn today’s data-driven world\, enterprises face significant challenges in integrating\, structuring\, and utilizing vast amounts of heterogeneous data. Knowledge graphs offer a powerful solution by organizing and connecting enterprise data\, thus enabling advanced AI applications through structured\, semantically enriched information. In this seminar\, Lukas Lokowski will explore the role of knowledge graphs and ontology learning systems within enterprise environments. His talk will cover research on automating ontology extraction from relational databases\, benchmarking current ontology learning approaches\, and enhancing AI applications through high-quality data integration. \nBio:\nLukas Lokowski is a PhD student at the Hasso Plattner Institute in Potsdam\, under the guidance of Prof. Dr. Felix Naumann\, head of the Information Systems Chair. His research focuses on ontology learning from enterprise data and leveraging knowledge graphs to enhance AI applications. Additionally\, he addresses data cleaning challenges\, with a particular emphasis on entity resolution in numerical data. Passionate about bridging structured data with AI\, Lukas is committed to developing innovative approaches to improve data integration and interoperability.
URL:https://isg.ics.uci.edu/event/lukas-lokowski-knowledge-graphs-and-ai-bridging-enterprise-data-and-knowledge-graphs-to-leverage-ai-applications/
LOCATION:DBH 3011
END:VEVENT
END:VCALENDAR