BEGIN:VCALENDAR
VERSION:2.0
PRODID:-//Information Systems Group - ECPv6.4.0.1//NONSGML v1.0//EN
CALSCALE:GREGORIAN
METHOD:PUBLISH
X-ORIGINAL-URL:https://isg.ics.uci.edu
X-WR-CALDESC:Events for Information Systems Group
REFRESH-INTERVAL;VALUE=DURATION:PT1H
X-Robots-Tag:noindex
X-PUBLISHED-TTL:PT1H
BEGIN:VTIMEZONE
TZID:America/Los_Angeles
BEGIN:DAYLIGHT
TZOFFSETFROM:-0800
TZOFFSETTO:-0700
TZNAME:PDT
DTSTART:20230312T100000
END:DAYLIGHT
BEGIN:STANDARD
TZOFFSETFROM:-0700
TZOFFSETTO:-0800
TZNAME:PST
DTSTART:20231105T090000
END:STANDARD
END:VTIMEZONE
BEGIN:VEVENT
DTSTART;TZID=America/Los_Angeles:20231013T130000
DTEND;TZID=America/Los_Angeles:20231013T170000
DTSTAMP:20260423T155412
CREATED:20231007T181612Z
LAST-MODIFIED:20231007T181612Z
UID:1637-1697202000-1697216400@isg.ics.uci.edu
SUMMARY:Suyash Gupta(UC Berkeley): Dissecting BFT Consensus: In Trusted Components we Trust!
DESCRIPTION:The Information Systems Group (ISG) at UC Irvine welcomes \nSuyash Gupta \nUC Berkeley  \n\nDissecting BFT Consensus: In Trusted Components we Trust! \n  \nABSTRACT \nThe growing interest in reliable multi-party applications has fostered widespread adoption of Byzantine Fault-Tolerant (bft) consensus protocols. Existing bft protocols need f more replicas than Paxos-style protocols to prevent equivocation attacks. trust-bft protocols seek to minimize this cost by making use of trusted components at replicas. This paper makes two contributions. First\, we analyze the design of existing trust-bft protocols and uncover three fundamental limitations that preclude most practical deployments. Some of these limitations are fundamental\, while others are linked to the state of trusted components today. Second\, we introduce a novel suite of consensus protocols\, FlexiTrust\, that attempts to sidestep these issues. We show that our FlexiTrust protocols achieve up to 185% more throughput than their trust-bft counterparts. \nBIO \nSuyash Gupta is a postdoctoral researcher at the SkyLab\, University of California\, Berkeley. He is also the Lead Architect of ResilientDB fabric. Prior to joining Berkeley\, he received his Ph.D. degree from University of California\, Davis. He also holds two Master of Science degrees; one from Purdue University and another from Indian Institute of Technology Madras. His current research focuses on attaining safe and efficient\, fault tolerant distributed consensus and communication. He has also co-authored a book on fault-tolerant distributed transaction processing at Morgan & Claypool. He has been awarded the Best Graduate Researcher Award for 2021 by UC Davis and Best Paper Award at EuroSys’23. In his free time\, Suyash likes to code and his team won Best Hacker Award at BostonHacks\, HackIllinois\, and HackPrinceton\, among others.
URL:https://isg.ics.uci.edu/event/suyash-guptauc-berkeley-dissecting-bft-consensus-in-trusted-components-we-trust/
LOCATION:DBH 4011
END:VEVENT
END:VCALENDAR