BEGIN:VCALENDAR
VERSION:2.0
PRODID:-//Information Systems Group - ECPv6.4.0.1//NONSGML v1.0//EN
CALSCALE:GREGORIAN
METHOD:PUBLISH
X-WR-CALNAME:Information Systems Group
X-ORIGINAL-URL:https://isg.ics.uci.edu
X-WR-CALDESC:Events for Information Systems Group
REFRESH-INTERVAL;VALUE=DURATION:PT1H
X-Robots-Tag:noindex
X-PUBLISHED-TTL:PT1H
BEGIN:VTIMEZONE
TZID:America/Los_Angeles
BEGIN:DAYLIGHT
TZOFFSETFROM:-0800
TZOFFSETTO:-0700
TZNAME:PDT
DTSTART:20230312T100000
END:DAYLIGHT
BEGIN:STANDARD
TZOFFSETFROM:-0700
TZOFFSETTO:-0800
TZNAME:PST
DTSTART:20231105T090000
END:STANDARD
END:VTIMEZONE
BEGIN:VEVENT
DTSTART;TZID=America/Los_Angeles:20230113T123000
DTEND;TZID=America/Los_Angeles:20230113T140000
DTSTAMP:20260419T071157
CREATED:20230110T182620Z
LAST-MODIFIED:20230110T182620Z
UID:1506-1673613000-1673618400@isg.ics.uci.edu
SUMMARY:Andrew Chio: SmartSPEC: Customizable Smart Space Datasets via Event-Driven Simulations
DESCRIPTION:Bio – Andrew is a 4th year Ph.D. student in the Distributed Systems Middleware (DSM) group under the supervision of Professor Nalini Venkatasubramanian. His general research interests revolve around middleware\, data mining and analytics\, optimization\, and machine learning. \nAbstract – In this talk\, we present SmartSPEC\, an approach to generate customizable smart space datasets using sensorized spaces in which people and events are embedded. Smart space datasets are critical to design\, deploy and evaluate robust systems and applications to ensure cost-effective operation and safety/comfort/convenience of the space occupants. Often\, real-world data is difficult to obtain due to the lack of fine-grained sensing; privacy/security concerns prevent the release and sharing of individual and spatial data. SmartSPEC is a smart space simulator and data generator that can create a digital representation(twin) of a smart space and its activities. SmartSPEC uses a semantic model and ML-based approaches to characterize and learn attributes in a sensorized space\, and applies an event-driven simulation strategy to generate realistic simulated data about the space (events\, trajectories\, sensor datasets\, etc). To evaluate the realism of the data generated by SmartSPEC\, we develop a structured methodology and metrics to assess various aspects of smart space datasets\, including trajectories of people and occupancy of spaces. Our experimental study looks at two real-world settings/datasets: an instrumented smart campus building and a city-wide GPS dataset. Our results show that the trajectories produced by SmartSPEC are 1.4x to 4.4x more realistic than the best synthetic data baseline when compared to real-world data\, depending on the scenario and configuration.
URL:https://isg.ics.uci.edu/event/andrew-chio-smartspec-customizable-smart-space-datasets-via-event-driven-simulations/
LOCATION:DBH 4011
END:VEVENT
END:VCALENDAR