BEGIN:VCALENDAR
VERSION:2.0
PRODID:-//Information Systems Group - ECPv6.4.0.1//NONSGML v1.0//EN
CALSCALE:GREGORIAN
METHOD:PUBLISH
X-ORIGINAL-URL:https://isg.ics.uci.edu
X-WR-CALDESC:Events for Information Systems Group
REFRESH-INTERVAL;VALUE=DURATION:PT1H
X-Robots-Tag:noindex
X-PUBLISHED-TTL:PT1H
BEGIN:VTIMEZONE
TZID:America/Los_Angeles
BEGIN:DAYLIGHT
TZOFFSETFROM:-0800
TZOFFSETTO:-0700
TZNAME:PDT
DTSTART:20220313T100000
END:DAYLIGHT
BEGIN:STANDARD
TZOFFSETFROM:-0700
TZOFFSETTO:-0800
TZNAME:PST
DTSTART:20221106T090000
END:STANDARD
END:VTIMEZONE
BEGIN:VEVENT
DTSTART;TZID=America/Los_Angeles:20221028T123000
DTEND;TZID=America/Los_Angeles:20221028T140000
DTSTAMP:20260423T125436
CREATED:20220926T231451Z
LAST-MODIFIED:20260324T060756Z
UID:1473-1666960200-1666965600@isg.ics.uci.edu
SUMMARY:Abhishek Singh: WedgeBlock - An Off-Chain Secure Logging Platform for Blockchain Applications
DESCRIPTION:Abstract\n\n\nIn recent years\, there has been a growing interest in building blockchain-based decentralized applications (DApps). DApps typically consist of two components: an on-chain component that implements the logic of the application and runs on blockchain as a smart contract\, and an off-chain component that runs on a regular server to receive and process user requests while coordinating with the on-chain component. Developing DApps faces many challenges due to the cost and high latency of writing to a blockchain smart contract. In addition to the cost and latency\, DApps also face security challenges in maintaining logs and other data. \nWe propose WedgeBlock\, a secure data logging infrastructure for DApps. Logging is one of the most essential building blocks of data management systems and applications. Thus we envision that WedgeBlock would be used as a foundation to implement various DApps. WedgeBlock’s design reduces the performance and monetary cost of DApps with its main technical innovation called lazy-minimum trust (LMT). In LMT\, we show that we can combine the following features in one design: (1) it has an off-chain component for storage\, (2) it lazily writes digests of data—rather than all data—on-chain to minimize costs\, and (3) it integrates a trust mechanism to ensure the detection and punishment of malicious acts performed by the Offchain Node.\n\nSpeaker Bio\n\nAbhishek Singh is a 5th-year PhD student in the Computer Science Department at UC Irvine. His current research interests include transaction processing in decentralized data management systems.
URL:https://isg.ics.uci.edu/event/speaker-abhishek-singh-wedgeblock-an-off-chain-secure-logging-platform-for-blockchain-applications/
LOCATION:DBH 4011
END:VEVENT
END:VCALENDAR